BEGIN:VCALENDAR
VERSION:2.0
PRODID:-//North Metro Flex Academy - ECPv6.15.20//NONSGML v1.0//EN
CALSCALE:GREGORIAN
METHOD:PUBLISH
X-WR-CALNAME:North Metro Flex Academy
X-ORIGINAL-URL:https://nmfamn.org
X-WR-CALDESC:Events for North Metro Flex Academy
REFRESH-INTERVAL;VALUE=DURATION:PT1H
X-Robots-Tag:noindex
X-PUBLISHED-TTL:PT1H
BEGIN:VTIMEZONE
TZID:America/Chicago
BEGIN:DAYLIGHT
TZOFFSETFROM:-0600
TZOFFSETTO:-0500
TZNAME:CDT
DTSTART:20250309T080000
END:DAYLIGHT
BEGIN:STANDARD
TZOFFSETFROM:-0500
TZOFFSETTO:-0600
TZNAME:CST
DTSTART:20251102T070000
END:STANDARD
BEGIN:DAYLIGHT
TZOFFSETFROM:-0600
TZOFFSETTO:-0500
TZNAME:CDT
DTSTART:20260308T080000
END:DAYLIGHT
BEGIN:STANDARD
TZOFFSETFROM:-0500
TZOFFSETTO:-0600
TZNAME:CST
DTSTART:20261101T070000
END:STANDARD
BEGIN:DAYLIGHT
TZOFFSETFROM:-0600
TZOFFSETTO:-0500
TZNAME:CDT
DTSTART:20270314T080000
END:DAYLIGHT
BEGIN:STANDARD
TZOFFSETFROM:-0500
TZOFFSETTO:-0600
TZNAME:CST
DTSTART:20271107T070000
END:STANDARD
END:VTIMEZONE
BEGIN:VEVENT
DTSTART;VALUE=DATE:20260603
DTEND;VALUE=DATE:20260604
DTSTAMP:20260422T125053
CREATED:20260406T173827Z
LAST-MODIFIED:20260406T173827Z
UID:4861-1780444800-1780531199@nmfamn.org
SUMMARY:MS Valley Fair Field Trip
DESCRIPTION:
URL:https://nmfamn.org/event/ms-valley-fair-field-trip/
CATEGORIES:Events
END:VEVENT
BEGIN:VEVENT
DTSTART;VALUE=DATE:20260604
DTEND;VALUE=DATE:20260605
DTSTAMP:20260422T125053
CREATED:20260406T173904Z
LAST-MODIFIED:20260406T173904Z
UID:4863-1780531200-1780617599@nmfamn.org
SUMMARY:KG Graduation
DESCRIPTION:
URL:https://nmfamn.org/event/kg-graduation/
CATEGORIES:Events
END:VEVENT
BEGIN:VEVENT
DTSTART;VALUE=DATE:20260604
DTEND;VALUE=DATE:20260605
DTSTAMP:20260422T125053
CREATED:20260406T173923Z
LAST-MODIFIED:20260406T173923Z
UID:4865-1780531200-1780617599@nmfamn.org
SUMMARY:5th Grade Graduation
DESCRIPTION:
URL:https://nmfamn.org/event/5th-grade-graduation/
CATEGORIES:Events
END:VEVENT
BEGIN:VEVENT
DTSTART;VALUE=DATE:20260604
DTEND;VALUE=DATE:20260605
DTSTAMP:20260422T125053
CREATED:20260406T173937Z
LAST-MODIFIED:20260406T173941Z
UID:4867-1780531200-1780617599@nmfamn.org
SUMMARY:8th Grade Graduation
DESCRIPTION:
URL:https://nmfamn.org/event/8th-grade-graduation/
CATEGORIES:Events
END:VEVENT
BEGIN:VEVENT
DTSTART;VALUE=DATE:20260605
DTEND;VALUE=DATE:20260606
DTSTAMP:20260422T125053
CREATED:20250812T175819Z
LAST-MODIFIED:20250812T175819Z
UID:4612-1780617600-1780703999@nmfamn.org
SUMMARY:Last Day of School
DESCRIPTION:
URL:https://nmfamn.org/event/last-day-of-school/
CATEGORIES:Events
END:VEVENT
BEGIN:VEVENT
DTSTART;VALUE=DATE:20260605
DTEND;VALUE=DATE:20260606
DTSTAMP:20260422T125053
CREATED:20260406T173958Z
LAST-MODIFIED:20260406T173958Z
UID:4869-1780617600-1780703999@nmfamn.org
SUMMARY:NMFA Track & Field Day
DESCRIPTION:
URL:https://nmfamn.org/event/nmfa-track-field-day/
CATEGORIES:Events
END:VEVENT
BEGIN:VEVENT
DTSTART;TZID=America/Chicago:20260617T160000
DTEND;TZID=America/Chicago:20260617T180000
DTSTAMP:20260422T125053
CREATED:20250902T131435Z
LAST-MODIFIED:20250902T131435Z
UID:4653-1781712000-1781719200@nmfamn.org
SUMMARY:School Board Meeting
DESCRIPTION:
URL:https://nmfamn.org/event/school-board-meeting-10/
CATEGORIES:School Board
END:VEVENT
BEGIN:VEVENT
DTSTART;TZID=America/Chicago:20260715T160000
DTEND;TZID=America/Chicago:20260715T180000
DTSTAMP:20260422T125053
CREATED:20250902T131605Z
LAST-MODIFIED:20250902T131605Z
UID:4655-1784131200-1784138400@nmfamn.org
SUMMARY:School Board Meeting
DESCRIPTION:
URL:https://nmfamn.org/event/school-board-meeting-11/
CATEGORIES:School Board
END:VEVENT
END:VCALENDAR